BEGIN:VCALENDAR
VERSION:2.0
PRODID:-//hacksw/handcal//NONSGML v1.0//EN
METHOD:PUBLISH
CALSCALE:GREGORIAN
BEGIN:VEVENT
UID:69eb6eaa99d8b
DTSTART:20260627T003000Z
DTSTAMP:20260424T222250Z
DTEND:20260627T013000Z
LOCATION:
DESCRIPTION:【セミナー詳細】 https://ww2.med-gakkai.org/mmut/index.html
URL;VALUE=URI:
SUMMARY:第45回関東医真菌懇話会 教育講演1
END:VEVENT
END:VCALENDAR