BEGIN:VCALENDAR
VERSION:2.0
PRODID:-//hacksw/handcal//NONSGML v1.0//EN
METHOD:PUBLISH
CALSCALE:GREGORIAN
BEGIN:VEVENT
UID:69eb6e58adff2
DTSTART:20260527T042000Z
DTSTAMP:20260424T222128Z
DTEND:20260527T045000Z
LOCATION:
DESCRIPTION:【セミナー詳細】 https://kenkyuukai.jp/maruho/live_conference/detail.asp?id=80618&sid=968
URL;VALUE=URI:
SUMMARY:多汗症WEBライブセミナー
END:VEVENT
END:VCALENDAR